BEGIN:VCALENDAR
VERSION:2.0
PRODID:-//Medic ED - ECPv6.9.0//NONSGML v1.0//EN
CALSCALE:GREGORIAN
METHOD:PUBLISH
X-WR-CALNAME:Medic ED
X-ORIGINAL-URL:https://mediced.com.my
X-WR-CALDESC:Events for Medic ED
REFRESH-INTERVAL;VALUE=DURATION:PT1H
X-Robots-Tag:noindex
X-PUBLISHED-TTL:PT1H
BEGIN:VTIMEZONE
TZID:UTC
BEGIN:STANDARD
TZOFFSETFROM:+0000
TZOFFSETTO:+0000
TZNAME:UTC
DTSTART:20170101T000000
END:STANDARD
END:VTIMEZONE
BEGIN:VEVENT
DTSTART;TZID=UTC:20171220T080000
DTEND;TZID=UTC:20171220T170000
DTSTAMP:20260425T221318
CREATED:20160718T005810Z
LAST-MODIFIED:20160718T005810Z
UID:9532-1513756800-1513789200@mediced.com.my
SUMMARY:Learning Technologies and Learning and Skills
DESCRIPTION:Humans are creative beings. This text will not appear in a consistent order. Your design looks awesome by the way. After Hours Programming created this application. Default text creates the illusion of real text.
URL:https://mediced.com.my/event/learning-technologies-and-learning-and-skills-10/
LOCATION:Meeting Hall\, 130 ohua street. Miami\, Hi 96518 US Saint Augustine
CATEGORIES:Workshop
ORGANIZER;CN="University":MAILTO:info@webnus.net
END:VEVENT
BEGIN:VEVENT
DTSTART;TZID=UTC:20171220T080000
DTEND;TZID=UTC:20171220T170000
DTSTAMP:20260425T221318
CREATED:20160718T012939Z
LAST-MODIFIED:20160718T012939Z
UID:9566-1513756800-1513789200@mediced.com.my
SUMMARY:Learning Technologies and Learning and Skills
DESCRIPTION:Humans are creative beings. This text will not appear in a consistent order. Your design looks awesome by the way. After Hours Programming created this application. Default text creates the illusion of real text.
URL:https://mediced.com.my/event/learning-technologies-and-learning-and-skills-32/
LOCATION:Meeting Hall\, 130 ohua street. Miami\, Hi 96518 US Saint Augustine
CATEGORIES:Workshop
ORGANIZER;CN="University":MAILTO:info@webnus.net
END:VEVENT
BEGIN:VEVENT
DTSTART;TZID=UTC:20180101T080000
DTEND;TZID=UTC:20181001T180000
DTSTAMP:20260425T221318
CREATED:20160718T013712Z
LAST-MODIFIED:20160718T013712Z
UID:9579-1514793600-1538416800@mediced.com.my
SUMMARY:Learning Live
DESCRIPTION:Humans are creative beings. This text will not appear in a consistent order. Your design looks awesome by the way. After Hours Programming created this application. Default text creates the illusion of real text.
URL:https://mediced.com.my/event/learning-live-15/
LOCATION:Meeting Hall\, 130 ohua street. Miami\, Hi 96518 US Saint Augustine
CATEGORIES:Workshop
ORGANIZER;CN="University":MAILTO:info@webnus.net
END:VEVENT
BEGIN:VEVENT
DTSTART;TZID=UTC:20180110T080000
DTEND;TZID=UTC:20180110T180000
DTSTAMP:20260425T221318
CREATED:20160718T013713Z
LAST-MODIFIED:20160718T013713Z
UID:9580-1515571200-1515607200@mediced.com.my
SUMMARY:Learning Live
DESCRIPTION:Humans are creative beings. This text will not appear in a consistent order. Your design looks awesome by the way. After Hours Programming created this application. Default text creates the illusion of real text.
URL:https://mediced.com.my/event/learning-live-16/
LOCATION:Meeting Hall\, 130 ohua street. Miami\, Hi 96518 US Saint Augustine
CATEGORIES:Workshop
ORGANIZER;CN="University":MAILTO:info@webnus.net
END:VEVENT
BEGIN:VEVENT
DTSTART;TZID=UTC:20180115T090000
DTEND;TZID=UTC:20180115T200000
DTSTAMP:20260425T221318
CREATED:20160718T013710Z
LAST-MODIFIED:20160718T013710Z
UID:9581-1516006800-1516046400@mediced.com.my
SUMMARY:Global Learning Summit
DESCRIPTION:Humans are creative beings. This text will not appear in a consistent order. Your design looks awesome by the way. After Hours Programming created this application. Default text creates the illusion of real text.
URL:https://mediced.com.my/event/global-learning-summit-15/
LOCATION:Meeting Hall\, 130 ohua street. Miami\, Hi 96518 US Saint Augustine
CATEGORIES:Workshop
ORGANIZER;CN="University":MAILTO:info@webnus.net
END:VEVENT
BEGIN:VEVENT
DTSTART;TZID=UTC:20180210T080000
DTEND;TZID=UTC:20180210T170000
DTSTAMP:20260425T221318
CREATED:20160418T013702Z
LAST-MODIFIED:20160418T013702Z
UID:9583-1518249600-1518282000@mediced.com.my
SUMMARY:Learning Technologies and Learning and Skills
DESCRIPTION:Humans are creative beings. This text will not appear in a consistent order. Your design looks awesome by the way. After Hours Programming created this application. Default text creates the illusion of real text.
URL:https://mediced.com.my/event/learning-technologies-and-learning-and-skills-46/
LOCATION:Meeting Hall\, 130 ohua street. Miami\, Hi 96518 US Saint Augustine
CATEGORIES:Workshop
ORGANIZER;CN="University":MAILTO:info@webnus.net
END:VEVENT
BEGIN:VEVENT
DTSTART;TZID=UTC:20180301T080000
DTEND;TZID=UTC:20180301T170000
DTSTAMP:20260425T221318
CREATED:20160718T013652Z
LAST-MODIFIED:20160718T013652Z
UID:9587-1519891200-1519923600@mediced.com.my
SUMMARY:Learning Technologies and Learning and Skills
DESCRIPTION:Humans are creative beings. This text will not appear in a consistent order. Your design looks awesome by the way. After Hours Programming created this application. Default text creates the illusion of real text.
URL:https://mediced.com.my/event/learning-technologies-and-learning-and-skills-43/
LOCATION:Meeting Hall\, 130 ohua street. Miami\, Hi 96518 US Saint Augustine
CATEGORIES:Workshop
ORGANIZER;CN="University":MAILTO:info@webnus.net
END:VEVENT
BEGIN:VEVENT
DTSTART;TZID=UTC:20180310T080000
DTEND;TZID=UTC:20180310T170000
DTSTAMP:20260425T221318
CREATED:20160718T013649Z
LAST-MODIFIED:20160718T013649Z
UID:9589-1520668800-1520701200@mediced.com.my
SUMMARY:Learning Technologies and Learning and Skills
DESCRIPTION:Humans are creative beings. This text will not appear in a consistent order. Your design looks awesome by the way. After Hours Programming created this application. Default text creates the illusion of real text.
URL:https://mediced.com.my/event/learning-technologies-and-learning-and-skills-42/
LOCATION:Meeting Hall\, 130 ohua street. Miami\, Hi 96518 US Saint Augustine
CATEGORIES:Workshop
ORGANIZER;CN="University":MAILTO:info@webnus.net
END:VEVENT
BEGIN:VEVENT
DTSTART;TZID=UTC:20180320T080000
DTEND;TZID=UTC:20180320T170000
DTSTAMP:20260425T221318
CREATED:20160718T013646Z
LAST-MODIFIED:20160718T013646Z
UID:9588-1521532800-1521565200@mediced.com.my
SUMMARY:Learning Technologies and Learning and Skills
DESCRIPTION:Humans are creative beings. This text will not appear in a consistent order. Your design looks awesome by the way. After Hours Programming created this application. Default text creates the illusion of real text.
URL:https://mediced.com.my/event/learning-technologies-and-learning-and-skills-41/
LOCATION:Meeting Hall\, 130 ohua street. Miami\, Hi 96518 US Saint Augustine
CATEGORIES:Workshop
ORGANIZER;CN="University":MAILTO:info@webnus.net
END:VEVENT
BEGIN:VEVENT
DTSTART;TZID=UTC:20180620T000000
DTEND;TZID=UTC:20180620T170000
DTSTAMP:20260425T221318
CREATED:20160228T021315Z
LAST-MODIFIED:20160228T021315Z
UID:112-1529452800-1529514000@mediced.com.my
SUMMARY:Weekend Workship Services
DESCRIPTION:Humans are creative beings. This text will not appear in a consistent order. Your design looks awesome by the way. After Hours Programming created this application. Default text creates the illusion of real text.
URL:https://mediced.com.my/event/weekend-workship-services/
LOCATION:Meeting Hall\, 130 ohua street. Miami\, Hi 96518 US Saint Augustine
CATEGORIES:Workshop
ORGANIZER;CN="University":MAILTO:info@webnus.net
END:VEVENT
BEGIN:VEVENT
DTSTART;TZID=UTC:20180630T080000
DTEND;TZID=UTC:20180630T170000
DTSTAMP:20260425T221318
CREATED:20160718T013657Z
LAST-MODIFIED:20160718T013657Z
UID:9585-1530345600-1530378000@mediced.com.my
SUMMARY:Learning Technologies and Learning and Skills
DESCRIPTION:Humans are creative beings. This text will not appear in a consistent order. Your design looks awesome by the way. After Hours Programming created this application. Default text creates the illusion of real text.
URL:https://mediced.com.my/event/learning-technologies-and-learning-and-skills-44/
LOCATION:Meeting Hall\, 130 ohua street. Miami\, Hi 96518 US Saint Augustine
CATEGORIES:Workshop
ORGANIZER;CN="University":MAILTO:info@webnus.net
END:VEVENT
END:VCALENDAR