BEGIN:VCALENDAR
VERSION:2.0
PRODID:-//Medic ED - ECPv6.9.0//NONSGML v1.0//EN
CALSCALE:GREGORIAN
METHOD:PUBLISH
X-ORIGINAL-URL:https://mediced.com.my
X-WR-CALDESC:Events for Medic ED
REFRESH-INTERVAL;VALUE=DURATION:PT1H
X-Robots-Tag:noindex
X-PUBLISHED-TTL:PT1H
BEGIN:VTIMEZONE
TZID:UTC
BEGIN:STANDARD
TZOFFSETFROM:+0000
TZOFFSETTO:+0000
TZNAME:UTC
DTSTART:20160101T000000
END:STANDARD
END:VTIMEZONE
BEGIN:VEVENT
DTSTART;TZID=UTC:20160818T020000
DTEND;TZID=UTC:20160818T150000
DTSTAMP:20260425T095213
CREATED:20160718T001839Z
LAST-MODIFIED:20160718T001839Z
UID:9510-1471485600-1471532400@mediced.com.my
SUMMARY:Weekend Worship Services
DESCRIPTION:Humans are creative beings. This text will not appear in a consistent order. Your design looks awesome by the way. After Hours Programming created this application. Default text creates the illusion of real text.
URL:https://mediced.com.my/event/weekend-worship-services-2/
LOCATION:Meeting Hall\, 130 ohua street. Miami\, Hi 96518 US Saint Augustine
CATEGORIES:Workshop
ORGANIZER;CN="University":MAILTO:info@webnus.net
END:VEVENT
BEGIN:VEVENT
DTSTART;TZID=UTC:20160818T080000
DTEND;TZID=UTC:20160818T170000
DTSTAMP:20260425T095213
CREATED:20160718T001846Z
LAST-MODIFIED:20160718T001846Z
UID:9508-1471507200-1471539600@mediced.com.my
SUMMARY:Learning Solutions
DESCRIPTION:Humans are creative beings. This text will not appear in a consistent order. Your design looks awesome by the way. After Hours Programming created this application. Default text creates the illusion of real text.
URL:https://mediced.com.my/event/learning-solutions-2/
LOCATION:Meeting Hall\, 130 ohua street. Miami\, Hi 96518 US Saint Augustine
CATEGORIES:Workshop
ORGANIZER;CN="University":MAILTO:info@webnus.net
END:VEVENT
END:VCALENDAR