BEGIN:VCALENDAR
VERSION:2.0
PRODID:-//Medic ED - ECPv6.9.0//NONSGML v1.0//EN
CALSCALE:GREGORIAN
METHOD:PUBLISH
X-ORIGINAL-URL:https://mediced.com.my
X-WR-CALDESC:Events for Medic ED
REFRESH-INTERVAL;VALUE=DURATION:PT1H
X-Robots-Tag:noindex
X-PUBLISHED-TTL:PT1H
BEGIN:VTIMEZONE
TZID:UTC
BEGIN:STANDARD
TZOFFSETFROM:+0000
TZOFFSETTO:+0000
TZNAME:UTC
DTSTART:20170101T000000
END:STANDARD
END:VTIMEZONE
BEGIN:VEVENT
DTSTART;TZID=UTC:20170901T080000
DTEND;TZID=UTC:20170901T170000
DTSTAMP:20260424T100655
CREATED:20160718T011409Z
LAST-MODIFIED:20160718T011409Z
UID:9557-1504252800-1504285200@mediced.com.my
SUMMARY:Learning Technologies and Learning and Skills
DESCRIPTION:Humans are creative beings. This text will not appear in a consistent order. Your design looks awesome by the way. After Hours Programming created this application. Default text creates the illusion of real text.
URL:https://mediced.com.my/event/learning-technologies-and-learning-and-skills-26/
LOCATION:Meeting Hall\, 130 ohua street. Miami\, Hi 96518 US Saint Augustine
CATEGORIES:Workshop
ORGANIZER;CN="University":MAILTO:info@webnus.net
END:VEVENT
BEGIN:VEVENT
DTSTART;TZID=UTC:20170910T080000
DTEND;TZID=UTC:20170910T170000
DTSTAMP:20260424T100655
CREATED:20160718T011408Z
LAST-MODIFIED:20160718T011408Z
UID:9556-1505030400-1505062800@mediced.com.my
SUMMARY:Learning Technologies and Learning and Skills
DESCRIPTION:Humans are creative beings. This text will not appear in a consistent order. Your design looks awesome by the way. After Hours Programming created this application. Default text creates the illusion of real text.
URL:https://mediced.com.my/event/learning-technologies-and-learning-and-skills-25/
LOCATION:Meeting Hall\, 130 ohua street. Miami\, Hi 96518 US Saint Augustine
CATEGORIES:Workshop
ORGANIZER;CN="University":MAILTO:info@webnus.net
END:VEVENT
BEGIN:VEVENT
DTSTART;TZID=UTC:20170915T080000
DTEND;TZID=UTC:20170915T170000
DTSTAMP:20260424T100655
CREATED:20160718T011405Z
LAST-MODIFIED:20160718T011405Z
UID:9555-1505462400-1505494800@mediced.com.my
SUMMARY:Learning Technologies and Learning and Skills
DESCRIPTION:Humans are creative beings. This text will not appear in a consistent order. Your design looks awesome by the way. After Hours Programming created this application. Default text creates the illusion of real text.
URL:https://mediced.com.my/event/learning-technologies-and-learning-and-skills-24/
LOCATION:Meeting Hall\, 130 ohua street. Miami\, Hi 96518 US Saint Augustine
CATEGORIES:Workshop
ORGANIZER;CN="University":MAILTO:info@webnus.net
END:VEVENT
BEGIN:VEVENT
DTSTART;TZID=UTC:20170920T080000
DTEND;TZID=UTC:20170920T170000
DTSTAMP:20260424T100655
CREATED:20160718T011403Z
LAST-MODIFIED:20160718T011403Z
UID:9554-1505894400-1505926800@mediced.com.my
SUMMARY:Learning Technologies and Learning and Skills
DESCRIPTION:Humans are creative beings. This text will not appear in a consistent order. Your design looks awesome by the way. After Hours Programming created this application. Default text creates the illusion of real text.
URL:https://mediced.com.my/event/learning-technologies-and-learning-and-skills-23/
LOCATION:Meeting Hall\, 130 ohua street. Miami\, Hi 96518 US Saint Augustine
CATEGORIES:Workshop
ORGANIZER;CN="University":MAILTO:info@webnus.net
END:VEVENT
END:VCALENDAR