BEGIN:VCALENDAR
VERSION:2.0
PRODID:-//Medic ED - ECPv6.9.0//NONSGML v1.0//EN
CALSCALE:GREGORIAN
METHOD:PUBLISH
X-ORIGINAL-URL:https://mediced.com.my
X-WR-CALDESC:Events for Medic ED
REFRESH-INTERVAL;VALUE=DURATION:PT1H
X-Robots-Tag:noindex
X-PUBLISHED-TTL:PT1H
BEGIN:VTIMEZONE
TZID:UTC
BEGIN:STANDARD
TZOFFSETFROM:+0000
TZOFFSETTO:+0000
TZNAME:UTC
DTSTART:20170101T000000
END:STANDARD
END:VTIMEZONE
BEGIN:VEVENT
DTSTART;TZID=UTC:20170301T080000
DTEND;TZID=UTC:20170301T180000
DTSTAMP:20260424T203101
CREATED:20160718T011714Z
LAST-MODIFIED:20160718T011714Z
UID:9542-1488355200-1488391200@mediced.com.my
SUMMARY:Learning Live
DESCRIPTION:Humans are creative beings. This text will not appear in a consistent order. Your design looks awesome by the way. After Hours Programming created this application. Default text creates the illusion of real text.
URL:https://mediced.com.my/event/learning-live-12/
LOCATION:Meeting Hall\, 130 ohua street. Miami\, Hi 96518 US Saint Augustine
CATEGORIES:Workshop
ORGANIZER;CN="University":MAILTO:info@webnus.net
END:VEVENT
BEGIN:VEVENT
DTSTART;TZID=UTC:20170310T080000
DTEND;TZID=UTC:20170310T180000
DTSTAMP:20260424T203101
CREATED:20160718T010214Z
LAST-MODIFIED:20160718T010214Z
UID:9537-1489132800-1489168800@mediced.com.my
SUMMARY:Learning Live
DESCRIPTION:Humans are creative beings. This text will not appear in a consistent order. Your design looks awesome by the way. After Hours Programming created this application. Default text creates the illusion of real text.
URL:https://mediced.com.my/event/learning-live-7/
LOCATION:Meeting Hall\, 130 ohua street. Miami\, Hi 96518 US Saint Augustine
CATEGORIES:Workshop
ORGANIZER;CN="University":MAILTO:info@webnus.net
END:VEVENT
BEGIN:VEVENT
DTSTART;TZID=UTC:20170315T090000
DTEND;TZID=UTC:20170315T200000
DTSTAMP:20260424T203101
CREATED:20160718T010217Z
LAST-MODIFIED:20160718T010217Z
UID:9540-1489568400-1489608000@mediced.com.my
SUMMARY:Global Learning Summit
DESCRIPTION:Humans are creative beings. This text will not appear in a consistent order. Your design looks awesome by the way. After Hours Programming created this application. Default text creates the illusion of real text.
URL:https://mediced.com.my/event/global-learning-summit-6/
LOCATION:Meeting Hall\, 130 ohua street. Miami\, Hi 96518 US Saint Augustine
CATEGORIES:Workshop
ORGANIZER;CN="University":MAILTO:info@webnus.net
END:VEVENT
BEGIN:VEVENT
DTSTART;TZID=UTC:20170320T090000
DTEND;TZID=UTC:20170320T200000
DTSTAMP:20260424T203101
CREATED:20160718T010219Z
LAST-MODIFIED:20160718T010219Z
UID:9538-1490000400-1490040000@mediced.com.my
SUMMARY:Global Learning Summit
DESCRIPTION:Humans are creative beings. This text will not appear in a consistent order. Your design looks awesome by the way. After Hours Programming created this application. Default text creates the illusion of real text.
URL:https://mediced.com.my/event/global-learning-summit-7/
LOCATION:Meeting Hall\, 130 ohua street. Miami\, Hi 96518 US Saint Augustine
CATEGORIES:Workshop
ORGANIZER;CN="University":MAILTO:info@webnus.net
END:VEVENT
END:VCALENDAR