BEGIN:VCALENDAR
VERSION:2.0
PRODID:-//Medic ED - ECPv6.9.0//NONSGML v1.0//EN
CALSCALE:GREGORIAN
METHOD:PUBLISH
X-WR-CALNAME:Medic ED
X-ORIGINAL-URL:https://mediced.com.my
X-WR-CALDESC:Events for Medic ED
REFRESH-INTERVAL;VALUE=DURATION:PT1H
X-Robots-Tag:noindex
X-PUBLISHED-TTL:PT1H
BEGIN:VTIMEZONE
TZID:UTC
BEGIN:STANDARD
TZOFFSETFROM:+0000
TZOFFSETTO:+0000
TZNAME:UTC
DTSTART:20170101T000000
END:STANDARD
END:VTIMEZONE
BEGIN:VEVENT
DTSTART;TZID=UTC:20170101T080000
DTEND;TZID=UTC:20170101T180000
DTSTAMP:20260425T000331
CREATED:20160718T005809Z
LAST-MODIFIED:20160718T005809Z
UID:9526-1483257600-1483293600@mediced.com.my
SUMMARY:Learning Live
DESCRIPTION:Humans are creative beings. This text will not appear in a consistent order. Your design looks awesome by the way. After Hours Programming created this application. Default text creates the illusion of real text.
URL:https://mediced.com.my/event/learning-live-4/
LOCATION:Meeting Hall\, 130 ohua street. Miami\, Hi 96518 US Saint Augustine
CATEGORIES:Workshop
ORGANIZER;CN="University":MAILTO:info@webnus.net
END:VEVENT
BEGIN:VEVENT
DTSTART;TZID=UTC:20170110T080000
DTEND;TZID=UTC:20170110T180000
DTSTAMP:20260425T000331
CREATED:20160718T005810Z
LAST-MODIFIED:20160718T005810Z
UID:9530-1484035200-1484071200@mediced.com.my
SUMMARY:Learning Live
DESCRIPTION:Humans are creative beings. This text will not appear in a consistent order. Your design looks awesome by the way. After Hours Programming created this application. Default text creates the illusion of real text.
URL:https://mediced.com.my/event/learning-live-5/
LOCATION:Meeting Hall\, 130 ohua street. Miami\, Hi 96518 US Saint Augustine
CATEGORIES:Workshop
ORGANIZER;CN="University":MAILTO:info@webnus.net
END:VEVENT
BEGIN:VEVENT
DTSTART;TZID=UTC:20170115T090000
DTEND;TZID=UTC:20170115T200000
DTSTAMP:20260425T000331
CREATED:20160718T005810Z
LAST-MODIFIED:20160718T005810Z
UID:9527-1484470800-1484510400@mediced.com.my
SUMMARY:Global Learning Summit
DESCRIPTION:Humans are creative beings. This text will not appear in a consistent order. Your design looks awesome by the way. After Hours Programming created this application. Default text creates the illusion of real text.
URL:https://mediced.com.my/event/global-learning-summit-5/
LOCATION:Meeting Hall\, 130 ohua street. Miami\, Hi 96518 US Saint Augustine
CATEGORIES:Workshop
ORGANIZER;CN="University":MAILTO:info@webnus.net
END:VEVENT
BEGIN:VEVENT
DTSTART;TZID=UTC:20170120T090000
DTEND;TZID=UTC:20170120T200000
DTSTAMP:20260425T000331
CREATED:20160718T005803Z
LAST-MODIFIED:20160718T005803Z
UID:9531-1484902800-1484942400@mediced.com.my
SUMMARY:Global Learning Summit
DESCRIPTION:Humans are creative beings. This text will not appear in a consistent order. Your design looks awesome by the way. After Hours Programming created this application. Default text creates the illusion of real text.
URL:https://mediced.com.my/event/global-learning-summit-4/
LOCATION:Meeting Hall\, 130 ohua street. Miami\, Hi 96518 US Saint Augustine
CATEGORIES:Workshop
ORGANIZER;CN="University":MAILTO:info@webnus.net
END:VEVENT
END:VCALENDAR